BEGIN:VCALENDAR
VERSION:2.0
PRODID:spatie/icalendar-generator
DESCRIPTION:Veranstaltungen von Heimatverein Isenstedt
X-WR-CALDESC:Veranstaltungen von Heimatverein Isenstedt
REFRESH-INTERVAL;VALUE=DURATION:PT1440M
X-PUBLISHED-TTL:PT1440M
BEGIN:VTIMEZONE
TZID:Etc/GMT-1
BEGIN:STANDARD
DTSTART:20250606T100000Z
TZOFFSETFROM:+0100
TZOFFSETTO:+0100
END:STANDARD
END:VTIMEZONE
BEGIN:VTIMEZONE
TZID:UTC
BEGIN:STANDARD
DTSTART:20250725T081358Z
TZOFFSETFROM:+0000
TZOFFSETTO:+0000
END:STANDARD
END:VTIMEZONE
BEGIN:VEVENT
UID:30-28
DTSTAMP:20260421T081358Z
SUMMARY:!! heute am 03.03. Vorverkauf !! Karten für Matjes und Musik 👍\
 , Bühne Grundschule Isenstedt
LOCATION:Grundschule Isenstedt Neue Schulstr. 6  Espelkamp NRW 32339
ORGANIZER;CN=Reinhard Engelage:MAILTO:re100@t-online.de
DTSTART;TZID=Etc/GMT-1:20260303T100000
DTEND;TZID=Etc/GMT-1:20260303T120000
X-ALT-DESC;FMTTYPE=TEXT/HTML:Für die Busfahrt 🚌 mit dem Heimatverein zu
 m und auf dem Möhnesee mit dem Shanty Chor Bünde am 09.06.2026 werden hi
 er Karten heute schon mal vorverkauft. Bühne Grundschule Isenstedt Eingan
 g nach Norden  &amp;nbsp\; Gruß  Heimatverein Isenstedt 🙂
CATEGORIES:Ausflug
URL;VALUE=URI:https://www.heimatverein-isenstedt.de/mc-events/heute-am-03-0
 3-vorverkauf-karten-fuer-matjes-und-musik-%f0%9f%91%8d-buehne-grundschule-
 isenstedt/
METHOD:PUBLISH
END:VEVENT
END:VCALENDAR