BEGIN:VCALENDAR
VERSION:2.0
PRODID:spatie/icalendar-generator
DESCRIPTION:Veranstaltungen von Heimatverein Isenstedt
X-WR-CALDESC:Veranstaltungen von Heimatverein Isenstedt
REFRESH-INTERVAL;VALUE=DURATION:PT1440M
X-PUBLISHED-TTL:PT1440M
BEGIN:VTIMEZONE
TZID:Etc/GMT-1
BEGIN:STANDARD
DTSTART:20250626T180000Z
TZOFFSETFROM:+0100
TZOFFSETTO:+0100
END:STANDARD
END:VTIMEZONE
BEGIN:VTIMEZONE
TZID:UTC
BEGIN:STANDARD
DTSTART:20250724T101347Z
TZOFFSETFROM:+0000
TZOFFSETTO:+0000
END:STANDARD
END:VTIMEZONE
BEGIN:VEVENT
UID:35-25
DTSTAMP:20260420T101347Z
SUMMARY:5. Historischer Gesprächskreis
LOCATION:Grundschule Isenstedt Neue Schulstr. 6  Espelkamp NRW 32339
ORGANIZER;CN=Reinhard Engelage:MAILTO:re100@t-online.de
DTSTART;TZID=Etc/GMT-1:20260323T180000
DTEND;TZID=Etc/GMT-1:20260323T200000
X-ALT-DESC;FMTTYPE=TEXT/HTML:Isenstedt blüht auf: Torf stechen/ Zigarren m
 achen
CATEGORIES:Gesprächskreis
URL;VALUE=URI:https://www.heimatverein-isenstedt.de/mc-events/5-historische
 r-gespraechskreis/
METHOD:PUBLISH
END:VEVENT
END:VCALENDAR