BEGIN:VCALENDAR
VERSION:2.0
PRODID:spatie/icalendar-generator
DESCRIPTION:Veranstaltungen von Heimatverein Isenstedt
X-WR-CALDESC:Veranstaltungen von Heimatverein Isenstedt
REFRESH-INTERVAL;VALUE=DURATION:PT1440M
X-PUBLISHED-TTL:PT1440M
BEGIN:VTIMEZONE
TZID:Etc/GMT-1
BEGIN:STANDARD
DTSTART:20250601T180000Z
TZOFFSETFROM:+0100
TZOFFSETTO:+0100
END:STANDARD
END:VTIMEZONE
BEGIN:VTIMEZONE
TZID:UTC
BEGIN:STANDARD
DTSTART:20250724T084514Z
TZOFFSETFROM:+0000
TZOFFSETTO:+0000
END:STANDARD
END:VTIMEZONE
BEGIN:VEVENT
UID:19-16
DTSTAMP:20260420T084514Z
SUMMARY:Mitgliederhauptversammlung des Heimatverein
LOCATION:Dorfkrug Kaiser GmbH &amp;amp\; Co. KG Neue Schulstraße 10  Espelkamp
  NRW 32339
ORGANIZER;CN=admin:MAILTO:hosting@webviser.de
DTSTART;TZID=Etc/GMT-1:20260226T180000
DTEND;TZID=Etc/GMT-1:20260226T220000
X-ALT-DESC;FMTTYPE=TEXT/HTML:Details hier
CATEGORIES:General
URL;VALUE=URI:https://www.heimatverein-isenstedt.de/mc-events/mitgliederhau
 ptversammlung-des-heimatverein/
METHOD:PUBLISH
END:VEVENT
END:VCALENDAR