BEGIN:VCALENDAR
VERSION:2.0
PRODID:spatie/icalendar-generator
DESCRIPTION:Veranstaltungen von Heimatverein Isenstedt
X-WR-CALDESC:Veranstaltungen von Heimatverein Isenstedt
REFRESH-INTERVAL;VALUE=DURATION:PT1440M
X-PUBLISHED-TTL:PT1440M
BEGIN:VTIMEZONE
TZID:Etc/GMT-1
BEGIN:STANDARD
DTSTART:20250701T090000Z
TZOFFSETFROM:+0100
TZOFFSETTO:+0100
END:STANDARD
END:VTIMEZONE
BEGIN:VTIMEZONE
TZID:UTC
BEGIN:STANDARD
DTSTART:20250724T084514Z
TZOFFSETFROM:+0000
TZOFFSETTO:+0000
END:STANDARD
END:VTIMEZONE
BEGIN:VEVENT
UID:24-22
DTSTAMP:20260420T084514Z
SUMMARY:Teilnahme am\" Tag der sauberen Landschaft\"
LOCATION:
ORGANIZER;CN=Reinhard Engelage:MAILTO:re100@t-online.de
DTSTART;TZID=Etc/GMT-1:20260328T090000
DTEND;TZID=Etc/GMT-1:20260328T133000
X-ALT-DESC;FMTTYPE=TEXT/HTML:Treffen aller Teilnehmer um 09:00 Uhr am Feuer
 wehr Gerätehaus Isenstedt
CATEGORIES:General
URL;VALUE=URI:https://www.heimatverein-isenstedt.de/mc-events/teilnahme-am-
 tag-der-sauberen-landschaft/
METHOD:PUBLISH
END:VEVENT
END:VCALENDAR